BEGIN:VCALENDAR
VERSION:2.0
PRODID:-//Tiltøk í Eysturkommunu - ECPv6.15.20//NONSGML v1.0//EN
CALSCALE:GREGORIAN
METHOD:PUBLISH
X-ORIGINAL-URL:https://tiltak.eystur.fo
X-WR-CALDESC:Events for Tiltøk í Eysturkommunu
REFRESH-INTERVAL;VALUE=DURATION:PT1H
X-Robots-Tag:noindex
X-PUBLISHED-TTL:PT1H
BEGIN:VTIMEZONE
TZID:Atlantic/Faroe
BEGIN:DAYLIGHT
TZOFFSETFROM:+0000
TZOFFSETTO:+0100
TZNAME:WEST
DTSTART:20230326T010000
END:DAYLIGHT
BEGIN:STANDARD
TZOFFSETFROM:+0100
TZOFFSETTO:+0000
TZNAME:WET
DTSTART:20231029T010000
END:STANDARD
BEGIN:DAYLIGHT
TZOFFSETFROM:+0000
TZOFFSETTO:+0100
TZNAME:WEST
DTSTART:20240331T010000
END:DAYLIGHT
BEGIN:STANDARD
TZOFFSETFROM:+0100
TZOFFSETTO:+0000
TZNAME:WET
DTSTART:20241027T010000
END:STANDARD
BEGIN:DAYLIGHT
TZOFFSETFROM:+0000
TZOFFSETTO:+0100
TZNAME:WEST
DTSTART:20250330T010000
END:DAYLIGHT
BEGIN:STANDARD
TZOFFSETFROM:+0100
TZOFFSETTO:+0000
TZNAME:WET
DTSTART:20251026T010000
END:STANDARD
BEGIN:DAYLIGHT
TZOFFSETFROM:+0000
TZOFFSETTO:+0100
TZNAME:WEST
DTSTART:20260329T010000
END:DAYLIGHT
BEGIN:STANDARD
TZOFFSETFROM:+0100
TZOFFSETTO:+0000
TZNAME:WET
DTSTART:20261025T010000
END:STANDARD
END:VTIMEZONE
BEGIN:VEVENT
DTSTART;VALUE=DATE:20241024
DTEND;VALUE=DATE:20250411
DTSTAMP:20260420T095917
CREATED:20250915T070022Z
LAST-MODIFIED:20260415T083820Z
UID:10007704-1729728000-1744329599@tiltak.eystur.fo
SUMMARY:Blýantstekning
DESCRIPTION:Hevur tú hug at læra at tekna alt møguligt og ómøguligt? Kom við á skeið. \nTíðspunkt: Hóskvøld kl. 19:00-21:00 \n 
URL:https://tiltak.eystur.fo/event/blyantstekning-2/
LOCATION:Húsið hjá Karli\, Norðragøta
CATEGORIES:Kvøldskúli,Handverk og list
ATTACH;FMTTYPE=image/jpeg:https://tiltak.eystur.fo/wp-content/uploads/2025/09/blyantstekning.jpg
END:VEVENT
BEGIN:VEVENT
DTSTART;VALUE=DATE:20241024
DTEND;VALUE=DATE:20250411
DTSTAMP:20260420T095917
CREATED:20240906T103825Z
LAST-MODIFIED:20260417T041318Z
UID:10007606-1729728000-1744329599@tiltak.eystur.fo
SUMMARY:Blýantstekning
DESCRIPTION:Hevur tú hug at læra at tekna alt møguligt og ómøguligt? Kom við á skeið. \nTíðspunkt: Hóskvøld kl. 19:00-21:00
URL:https://tiltak.eystur.fo/event/blyantstekning/
LOCATION:Húsið hjá Karli\, Norðragøta
CATEGORIES:Kvøldskúli,Handverk og list
ATTACH;FMTTYPE=image/jpeg:https://tiltak.eystur.fo/wp-content/uploads/2024/09/Article-Image-1-880x461-1.jpeg
END:VEVENT
END:VCALENDAR