BEGIN:VCALENDAR
VERSION:2.0
PRODID:-//Tiltøk í Eysturkommunu - ECPv6.15.20//NONSGML v1.0//EN
CALSCALE:GREGORIAN
METHOD:PUBLISH
X-ORIGINAL-URL:https://tiltak.eystur.fo
X-WR-CALDESC:Events for Tiltøk í Eysturkommunu
REFRESH-INTERVAL;VALUE=DURATION:PT1H
X-Robots-Tag:noindex
X-PUBLISHED-TTL:PT1H
BEGIN:VTIMEZONE
TZID:Atlantic/Faroe
BEGIN:DAYLIGHT
TZOFFSETFROM:+0000
TZOFFSETTO:+0100
TZNAME:WEST
DTSTART:20250330T010000
END:DAYLIGHT
BEGIN:STANDARD
TZOFFSETFROM:+0100
TZOFFSETTO:+0000
TZNAME:WET
DTSTART:20251026T010000
END:STANDARD
BEGIN:DAYLIGHT
TZOFFSETFROM:+0000
TZOFFSETTO:+0100
TZNAME:WEST
DTSTART:20260329T010000
END:DAYLIGHT
BEGIN:STANDARD
TZOFFSETFROM:+0100
TZOFFSETTO:+0000
TZNAME:WET
DTSTART:20261025T010000
END:STANDARD
BEGIN:DAYLIGHT
TZOFFSETFROM:+0000
TZOFFSETTO:+0100
TZNAME:WEST
DTSTART:20270328T010000
END:DAYLIGHT
BEGIN:STANDARD
TZOFFSETFROM:+0100
TZOFFSETTO:+0000
TZNAME:WET
DTSTART:20271031T010000
END:STANDARD
END:VTIMEZONE
BEGIN:VEVENT
DTSTART;TZID=Atlantic/Faroe:20260225T193000
DTEND;TZID=Atlantic/Faroe:20260225T210000
DTSTAMP:20260420T114427
CREATED:20260219T120459Z
LAST-MODIFIED:20260420T040955Z
UID:10007783-1772047800-1772053200@tiltak.eystur.fo
SUMMARY:Stovukonsert
DESCRIPTION:Mikukvøldið 25. februar kl. 19:30 verður hugnalig stovukonsert í Leirvík við Kristinu og Bödda. \nAtgongumerki kann keypast á www.atgongumerki.fo
URL:https://tiltak.eystur.fo/event/stovukonsert-vid-kristinu-og-bodda/
LOCATION:Fløtugerði 13\, Leirvík\, Fløtugerði 13\, Leirvík\, 520\, Faroe Islands
CATEGORIES:Tiltøk í Eysturkommunu
ATTACH;FMTTYPE=image/jpeg:https://tiltak.eystur.fo/wp-content/uploads/2026/02/piVqF9IpepJjdsFlheLrU8e0f1NdeLxH.jpeg
END:VEVENT
END:VCALENDAR