BEGIN:VCALENDAR
VERSION:2.0
PRODID:-//Tiltøk í Eysturkommunu - ECPv6.15.20//NONSGML v1.0//EN
CALSCALE:GREGORIAN
METHOD:PUBLISH
X-ORIGINAL-URL:https://tiltak.eystur.fo
X-WR-CALDESC:Events for Tiltøk í Eysturkommunu
REFRESH-INTERVAL;VALUE=DURATION:PT1H
X-Robots-Tag:noindex
X-PUBLISHED-TTL:PT1H
BEGIN:VTIMEZONE
TZID:Atlantic/Faroe
BEGIN:DAYLIGHT
TZOFFSETFROM:+0000
TZOFFSETTO:+0100
TZNAME:WEST
DTSTART:20230326T010000
END:DAYLIGHT
BEGIN:STANDARD
TZOFFSETFROM:+0100
TZOFFSETTO:+0000
TZNAME:WET
DTSTART:20231029T010000
END:STANDARD
BEGIN:DAYLIGHT
TZOFFSETFROM:+0000
TZOFFSETTO:+0100
TZNAME:WEST
DTSTART:20240331T010000
END:DAYLIGHT
BEGIN:STANDARD
TZOFFSETFROM:+0100
TZOFFSETTO:+0000
TZNAME:WET
DTSTART:20241027T010000
END:STANDARD
BEGIN:DAYLIGHT
TZOFFSETFROM:+0000
TZOFFSETTO:+0100
TZNAME:WEST
DTSTART:20250330T010000
END:DAYLIGHT
BEGIN:STANDARD
TZOFFSETFROM:+0100
TZOFFSETTO:+0000
TZNAME:WET
DTSTART:20251026T010000
END:STANDARD
BEGIN:DAYLIGHT
TZOFFSETFROM:+0000
TZOFFSETTO:+0100
TZNAME:WEST
DTSTART:20260329T010000
END:DAYLIGHT
BEGIN:STANDARD
TZOFFSETFROM:+0100
TZOFFSETTO:+0000
TZNAME:WET
DTSTART:20261025T010000
END:STANDARD
BEGIN:DAYLIGHT
TZOFFSETFROM:+0000
TZOFFSETTO:+0100
TZNAME:WEST
DTSTART:20270328T010000
END:DAYLIGHT
BEGIN:STANDARD
TZOFFSETFROM:+0100
TZOFFSETTO:+0000
TZNAME:WET
DTSTART:20271031T010000
END:STANDARD
END:VTIMEZONE
BEGIN:VEVENT
DTSTART;VALUE=DATE:20251020
DTEND;VALUE=DATE:20260331
DTSTAMP:20260420T094646
CREATED:20250915T070036Z
LAST-MODIFIED:20260419T043026Z
UID:10007714-1760918400-1774915199@tiltak.eystur.fo
SUMMARY:Lessons in Faroese
DESCRIPTION:Skeiðið er fyri tilflytarar\, bæði nýbyrjarar og nakað framkomin. Vit læra m.a. úttalu\, at siga stuttar setningar og at skilja tað føroyska samfelagið betur. \nTað einasta tær nýtist at taka við er pennur\, pappír og forvitni. \nNær: Mánakvøld 19:00-21:00 \nPrísur: Ókeypis \n  \nLessons in Faroese for newcomers \nThis course is for newcomers\, beginners as well as more experienced. We will learn pronounciation\, various greetings\, to say short sentences and what we jointly feel is necessary.\nThe purpose of the course is also to understand the Faroese society better. \nThe only thing you need is a pen\, paper and enthusiasm. \nWhen: Monday at 19:00-21:00 \nWhere: The school in Leirvík \nPrice: For free \nIt is not necessary to register
URL:https://tiltak.eystur.fo/event/foroyskundirvising-lessons-in-faroese-for-newcomers/
LOCATION:Leirvíkar skúli
CATEGORIES:Kvøldskúli,Mál og lesimenning
ATTACH;FMTTYPE=image/jpeg:https://tiltak.eystur.fo/wp-content/uploads/2025/09/faroese3.jpg
END:VEVENT
BEGIN:VEVENT
DTSTART;VALUE=DATE:20241021
DTEND;VALUE=DATE:20250413
DTSTAMP:20260420T094646
CREATED:20240819T172031Z
LAST-MODIFIED:20260420T044619Z
UID:10003539-1729468800-1744502399@tiltak.eystur.fo
SUMMARY:Lessons in Faroese for newcomers
DESCRIPTION:This course is for newcomers\, beginners as well as more experienced. We will learn pronounciation\, various greetings\, to say short sentences and what we jointly feel is necessary. The purpose of the course is also to understand the Faroese society better. \nThe only thing you need is a pen\, paper and enthusiasm. \nThe course is free and it is not necessary to register \nDate and Time: Mondays 19:00-21:00
URL:https://tiltak.eystur.fo/event/foroyskundirvising-fyri-tilflytarar/
LOCATION:Skúlin í Leirvík
CATEGORIES:Kvøldskúli,Mál og lesimenning
ATTACH;FMTTYPE=image/jpeg:https://tiltak.eystur.fo/wp-content/uploads/2024/08/Faroese-for-beginners.jpg
END:VEVENT
END:VCALENDAR